BEGIN:VCALENDAR
VERSION:2.0
PRODID:-//LMC Partnerships - ECPv6.15.17.1//NONSGML v1.0//EN
CALSCALE:GREGORIAN
METHOD:PUBLISH
X-WR-CALNAME:LMC Partnerships
X-ORIGINAL-URL:https://lmcpartnerships.org
X-WR-CALDESC:Events for LMC Partnerships
REFRESH-INTERVAL;VALUE=DURATION:PT1H
X-Robots-Tag:noindex
X-PUBLISHED-TTL:PT1H
BEGIN:VTIMEZONE
TZID:America/New_York
BEGIN:DAYLIGHT
TZOFFSETFROM:-0500
TZOFFSETTO:-0400
TZNAME:EDT
DTSTART:20200308T070000
END:DAYLIGHT
BEGIN:STANDARD
TZOFFSETFROM:-0400
TZOFFSETTO:-0500
TZNAME:EST
DTSTART:20201101T060000
END:STANDARD
BEGIN:DAYLIGHT
TZOFFSETFROM:-0500
TZOFFSETTO:-0400
TZNAME:EDT
DTSTART:20210314T070000
END:DAYLIGHT
BEGIN:STANDARD
TZOFFSETFROM:-0400
TZOFFSETTO:-0500
TZNAME:EST
DTSTART:20211107T060000
END:STANDARD
BEGIN:DAYLIGHT
TZOFFSETFROM:-0500
TZOFFSETTO:-0400
TZNAME:EDT
DTSTART:20220313T070000
END:DAYLIGHT
BEGIN:STANDARD
TZOFFSETFROM:-0400
TZOFFSETTO:-0500
TZNAME:EST
DTSTART:20221106T060000
END:STANDARD
END:VTIMEZONE
BEGIN:VEVENT
DTSTART;TZID=America/New_York:20211102T180000
DTEND;TZID=America/New_York:20211104T100000
DTSTAMP:20260420T084521
CREATED:20220512T155426Z
LAST-MODIFIED:20220512T182212Z
UID:257-1635876000-1636020000@lmcpartnerships.org
SUMMARY:Labor Management Pre-Con at NJEA Convention
DESCRIPTION:Register Here\nThe NJ Public School Labor Management Collaborative is please to invite both current and potential members to participate in our Pre-Con event at the NJEA Convention this November. Districts interested in participating should identify a team of 10 to 12 attendees representing multiple levels in the district – Faculty & Staff\, Building Administration\, Central Administration\, and School Boards.
URL:https://lmcpartnerships.org/event/labor-management-pre-con-at-njea-convention/
LOCATION:Atlantic City Convention Center\, 1 convention blvd\, Atlantic City\, NJ\, 08401\, United States
CATEGORIES:Current District,Interdistrict,New District,Training
ATTACH;FMTTYPE=image/jpeg:https://lmcpartnerships.org/wp-content/uploads/2022/05/AC-Conv.jpeg
END:VEVENT
END:VCALENDAR