BEGIN:VCALENDAR
VERSION:2.0
PRODID:-//LMC Partnerships - ECPv6.15.17.1//NONSGML v1.0//EN
CALSCALE:GREGORIAN
METHOD:PUBLISH
X-WR-CALNAME:LMC Partnerships
X-ORIGINAL-URL:https://lmcpartnerships.org
X-WR-CALDESC:Events for LMC Partnerships
REFRESH-INTERVAL;VALUE=DURATION:PT1H
X-Robots-Tag:noindex
X-PUBLISHED-TTL:PT1H
BEGIN:VTIMEZONE
TZID:America/New_York
BEGIN:DAYLIGHT
TZOFFSETFROM:-0500
TZOFFSETTO:-0400
TZNAME:EDT
DTSTART:20210314T070000
END:DAYLIGHT
BEGIN:STANDARD
TZOFFSETFROM:-0400
TZOFFSETTO:-0500
TZNAME:EST
DTSTART:20211107T060000
END:STANDARD
BEGIN:DAYLIGHT
TZOFFSETFROM:-0500
TZOFFSETTO:-0400
TZNAME:EDT
DTSTART:20220313T070000
END:DAYLIGHT
BEGIN:STANDARD
TZOFFSETFROM:-0400
TZOFFSETTO:-0500
TZNAME:EST
DTSTART:20221106T060000
END:STANDARD
BEGIN:DAYLIGHT
TZOFFSETFROM:-0500
TZOFFSETTO:-0400
TZNAME:EDT
DTSTART:20230312T070000
END:DAYLIGHT
BEGIN:STANDARD
TZOFFSETFROM:-0400
TZOFFSETTO:-0500
TZNAME:EST
DTSTART:20231105T060000
END:STANDARD
END:VTIMEZONE
BEGIN:VEVENT
DTSTART;TZID=America/New_York:20220510T130000
DTEND;TZID=America/New_York:20220510T160000
DTSTAMP:20260420T083208
CREATED:20220512T181645Z
LAST-MODIFIED:20220512T182034Z
UID:265-1652187600-1652198400@lmcpartnerships.org
SUMMARY:Inter-District Spring Conference
DESCRIPTION:Register Here\nYou are invited to attend the New Jersey Public School Labor Management Collaborative’s Inter-District Conference on May 10\, 2022 from 1pm to 4pm. \nThe goal of the event is to further deepen our understanding of the ways unions\, administrators\, school boards\, teachers and staff have worked together over the past year to navigate the pandemic and provide quality public education while striving for greater social justice\, equity and inclusion. \nThe Inter-District Conference will be a virtual event hosted by the NJEA\, NJSBA\, NJASA\, NJPSA\, and Rutgers University. \nThere is no cost to attend this conference\, and since it is virtual you can circulate this registration link to others in your district who may be interested in attending.
URL:https://lmcpartnerships.org/event/inter-district-spring-conference/
CATEGORIES:Conference
ATTACH;FMTTYPE=image/png:https://lmcpartnerships.org/wp-content/uploads/2022/05/LMC-Logo-1.png
END:VEVENT
END:VCALENDAR